BEGIN:VCALENDAR
VERSION:2.0
PRODID:-//Vienna Vikings//Flag Liga 2026//DE
CALSCALE:GREGORIAN
METHOD:PUBLISH
X-WR-CALNAME:Vikings U9 Flag Liga 2026
X-WR-TIMEZONE:Europe/Vienna
X-WR-CALDESC:Flag Liga Jugend U9 II - Spielplan 2026
BEGIN:VTIMEZONE
TZID:Europe/Vienna
X-LIC-LOCATION:Europe/Vienna
BEGIN:DAYLIGHT
TZOFFSETFROM:+0100
TZOFFSETTO:+0200
TZNAME:CEST
DTSTART:19700329T020000
RRULE:FREQ=YEARLY;BYMONTH=3;BYDAY=-1SU
END:DAYLIGHT
BEGIN:STANDARD
TZOFFSETFROM:+0200
TZOFFSETTO:+0100
TZNAME:CET
DTSTART:19701025T030000
RRULE:FREQ=YEARLY;BYMONTH=10;BYDAY=-1SU
END:STANDARD
END:VTIMEZONE
BEGIN:VEVENT
UID:fe801409c5c6157e@vikingsflag2026
DTSTART;TZID=Europe/Vienna:20260412T111600
DTEND;TZID=Europe/Vienna:20260412T121600
SUMMARY:⚔️ St. Pölten Invaders U9 0:35 AFC Vienna Vikings (Endstand)
DESCRIPTION:Spieltag 1 - Flag Liga Jugend U9 II\nErgebnis: St. Pölten Invaders U9 0 : 35 AFC Vienna Vikings
LOCATION:The Ranch\, Schießstättenstraße 29\, 2490 Ebenfurth
STATUS:CONFIRMED
END:VEVENT
BEGIN:VEVENT
UID:d7176f5902a53d93@vikingsflag2026
DTSTART;TZID=Europe/Vienna:20260412T123000
DTEND;TZID=Europe/Vienna:20260412T133000
SUMMARY:⚔️ AFC Vienna Vikings 35:0 St. Pölten Invaders U9 (Endstand)
DESCRIPTION:Spieltag 1 - Flag Liga Jugend U9 II\nErgebnis: AFC Vienna Vikings 35 : 0 St. Pölten Invaders U9
LOCATION:The Ranch\, Schießstättenstraße 29\, 2490 Ebenfurth
STATUS:CONFIRMED
END:VEVENT
BEGIN:VEVENT
UID:1a58e53933d47b70@vikingsflag2026
DTSTART;TZID=Europe/Vienna:20260412T150100
DTEND;TZID=Europe/Vienna:20260412T160100
SUMMARY:⚔️ AFC Vienna Vikings 15:40 Ebenfurth Mustangs U9 (Endstand)
DESCRIPTION:Spieltag 1 - Flag Liga Jugend U9 II\nErgebnis: AFC Vienna Vikings 15 : 40 Ebenfurth Mustangs U9
LOCATION:The Ranch\, Schießstättenstraße 29\, 2490 Ebenfurth
STATUS:CONFIRMED
END:VEVENT
BEGIN:VEVENT
UID:deccee3d963a8fce@vikingsflag2026
DTSTART;TZID=Europe/Vienna:20260426T111600
DTEND;TZID=Europe/Vienna:20260426T121600
SUMMARY:⚔️ Ebenfurth Mustangs U9 vs AFC Vienna Vikings
DESCRIPTION:Spieltag 2 - Flag Liga Jugend U9 II
LOCATION:Lanzendorf, Eichenstraße 1, 2326 Lanzendorf
STATUS:CONFIRMED
END:VEVENT
BEGIN:VEVENT
UID:b88bd2baaeaaa202@vikingsflag2026
DTSTART;TZID=Europe/Vienna:20260426T123000
DTEND;TZID=Europe/Vienna:20260426T133000
SUMMARY:⚔️ Ebenfurth Mustangs U9 vs AFC Vienna Vikings
DESCRIPTION:Spieltag 2 - Flag Liga Jugend U9 II
LOCATION:Lanzendorf, Eichenstraße 1, 2326 Lanzendorf
STATUS:CONFIRMED
END:VEVENT
BEGIN:VEVENT
UID:e4cd43d501d049fb@vikingsflag2026
DTSTART;TZID=Europe/Vienna:20260426T150100
DTEND;TZID=Europe/Vienna:20260426T160100
SUMMARY:⚔️ AFC Vienna Vikings vs Dark Angels U9
DESCRIPTION:Spieltag 2 - Flag Liga Jugend U9 II
LOCATION:Lanzendorf, Eichenstraße 1, 2326 Lanzendorf
STATUS:CONFIRMED
END:VEVENT
BEGIN:VEVENT
UID:ac2851526f700cd2@vikingsflag2026
DTSTART;TZID=Europe/Vienna:20260503T100100
DTEND;TZID=Europe/Vienna:20260503T110100
SUMMARY:⚔️ Dark Angels U9 vs AFC Vienna Vikings
DESCRIPTION:Spieltag 3 - Flag Liga Jugend U9 II
LOCATION:Invaders Field, Edlinggasse 1, 3151 St. Pölten
STATUS:CONFIRMED
END:VEVENT
BEGIN:VEVENT
UID:d06d9ae8da2eecb2@vikingsflag2026
DTSTART;TZID=Europe/Vienna:20260503T111500
DTEND;TZID=Europe/Vienna:20260503T121500
SUMMARY:⚔️ AFC Vienna Vikings vs Dark Angels U9
DESCRIPTION:Spieltag 3 - Flag Liga Jugend U9 II
LOCATION:Invaders Field, Edlinggasse 1, 3151 St. Pölten
STATUS:CONFIRMED
END:VEVENT
BEGIN:VEVENT
UID:8e9b36052e63b7e9@vikingsflag2026
DTSTART;TZID=Europe/Vienna:20260503T134500
DTEND;TZID=Europe/Vienna:20260503T144500
SUMMARY:⚔️ St. Pölten Invaders U9 vs AFC Vienna Vikings
DESCRIPTION:Spieltag 3 - Flag Liga Jugend U9 II
LOCATION:Invaders Field, Edlinggasse 1, 3151 St. Pölten
STATUS:CONFIRMED
END:VEVENT
END:VCALENDAR