BEGIN:VCALENDAR
VERSION:2.0
PRODID:-//Vienna Vikings//Flag Liga 2026//DE
CALSCALE:GREGORIAN
METHOD:PUBLISH
X-WR-CALNAME:Vikings U11 Flag Liga 2026
X-WR-TIMEZONE:Europe/Vienna
X-WR-CALDESC:Flag Liga Jugend U11 II - Spielplan 2026
BEGIN:VTIMEZONE
TZID:Europe/Vienna
X-LIC-LOCATION:Europe/Vienna
BEGIN:DAYLIGHT
TZOFFSETFROM:+0100
TZOFFSETTO:+0200
TZNAME:CEST
DTSTART:19700329T020000
RRULE:FREQ=YEARLY;BYMONTH=3;BYDAY=-1SU
END:DAYLIGHT
BEGIN:STANDARD
TZOFFSETFROM:+0200
TZOFFSETTO:+0100
TZNAME:CET
DTSTART:19701025T030000
RRULE:FREQ=YEARLY;BYMONTH=10;BYDAY=-1SU
END:STANDARD
END:VTIMEZONE
BEGIN:VEVENT
UID:8c1eb7a18b90884d@vikingsflag2026
DTSTART;TZID=Europe/Vienna:20260418T134500
DTEND;TZID=Europe/Vienna:20260418T144500
SUMMARY:⚔️ AFC Vienna Vikings vs Ebenfurth Mustangs U11
DESCRIPTION:Spieltag 1 - Flag Liga Jugend U11 II
LOCATION:Sportplatz Baumgarten\, 7021 Baumgarten (Burgenland)
STATUS:CONFIRMED
END:VEVENT
BEGIN:VEVENT
UID:2fa8b2102e77fdbd@vikingsflag2026
DTSTART;TZID=Europe/Vienna:20260418T161500
DTEND;TZID=Europe/Vienna:20260418T171500
SUMMARY:⚔️ Dark Angels U11 vs AFC Vienna Vikings
DESCRIPTION:Spieltag 1 - Flag Liga Jugend U11 II
LOCATION:Sportplatz Baumgarten\, 7021 Baumgarten (Burgenland)
STATUS:CONFIRMED
END:VEVENT
BEGIN:VEVENT
UID:704c31d0e0a08a76@vikingsflag2026
DTSTART;TZID=Europe/Vienna:20260418T173000
DTEND;TZID=Europe/Vienna:20260418T183000
SUMMARY:⚔️ AFC Vienna Vikings vs Carnuntum Legionaries U11
DESCRIPTION:Spieltag 1 - Flag Liga Jugend U11 II
LOCATION:Sportplatz Baumgarten\, 7021 Baumgarten (Burgenland)
STATUS:CONFIRMED
END:VEVENT
BEGIN:VEVENT
UID:e3f334d202ec40ca@vikingsflag2026
DTSTART;TZID=Europe/Vienna:20260502T111500
DTEND;TZID=Europe/Vienna:20260502T121500
SUMMARY:⚔️ Münchendorf Badgers U11 vs AFC Vienna Vikings
DESCRIPTION:Spieltag 2 - Flag Liga Jugend U11 II
LOCATION:t.b.a. (wird noch bekanntgegeben)
STATUS:CONFIRMED
END:VEVENT
BEGIN:VEVENT
UID:20747ad0e5d9c7e1@vikingsflag2026
DTSTART;TZID=Europe/Vienna:20260502T123000
DTEND;TZID=Europe/Vienna:20260502T133000
SUMMARY:⚔️ Carnuntum Legionaries U11 vs AFC Vienna Vikings
DESCRIPTION:Spieltag 2 - Flag Liga Jugend U11 II
LOCATION:t.b.a. (wird noch bekanntgegeben)
STATUS:CONFIRMED
END:VEVENT
BEGIN:VEVENT
UID:401e1a90c8fc98c9@vikingsflag2026
DTSTART;TZID=Europe/Vienna:20260613T100000
DTEND;TZID=Europe/Vienna:20260613T110000
SUMMARY:⚔️ Ebenfurth Mustangs U11 vs AFC Vienna Vikings
DESCRIPTION:Spieltag 3 - Flag Liga Jugend U11 II
LOCATION:t.b.a. (wird noch bekanntgegeben)
STATUS:CONFIRMED
END:VEVENT
BEGIN:VEVENT
UID:2a79908293565b33@vikingsflag2026
DTSTART;TZID=Europe/Vienna:20260613T134500
DTEND;TZID=Europe/Vienna:20260613T144500
SUMMARY:⚔️ AFC Vienna Vikings vs Dark Angels U11
DESCRIPTION:Spieltag 3 - Flag Liga Jugend U11 II
LOCATION:t.b.a. (wird noch bekanntgegeben)
STATUS:CONFIRMED
END:VEVENT
BEGIN:VEVENT
UID:855eef01333ca06d@vikingsflag2026
DTSTART;TZID=Europe/Vienna:20260613T161500
DTEND;TZID=Europe/Vienna:20260613T171500
SUMMARY:⚔️ AFC Vienna Vikings vs Münchendorf Badgers U11
DESCRIPTION:Spieltag 3 - Flag Liga Jugend U11 II
LOCATION:t.b.a. (wird noch bekanntgegeben)
STATUS:CONFIRMED
END:VEVENT
END:VCALENDAR